View In:
ArcGIS JavaScript
ArcGIS Online Map Viewer
ArcGIS Earth
ArcMap
ArcGIS Pro
View Footprint In:
ArcGIS Online Map Viewer
Service Description: Basemap for HTML viewer
This map removes Road Names so they can be put in Ops map
mxd is M:\APP3\HTMLViewer\NashuaNH_Basemap_Plan_10_4_18.mxd
This map eliminates the drape feature, eliminates driveway, parking lines and Parks. Uses LandFeatures.Contours_2t and PoliticalBoundaries.CityLimits_Line and AbbuttingTowns.Area_Towns_Cut
Map Name: Layers
Legend
All Layers and Tables
Dynamic Legend
Dynamic All Layers
Layers:
Description:
Copyright Text:
Spatial Reference:
102100
(3857)
Single Fused Map Cache: true
Tile Info:
- Height: 256
- Width: 256
- DPI: 96
-
Levels of Detail: 24
-
Level ID: 0
[ Start Tile, End Tile ]
- Resolution: 156543.03392800014
- Scale: 5.91657527591555E8
-
Level ID: 1
[ Start Tile, End Tile ]
- Resolution: 78271.51696399994
- Scale: 2.95828763795777E8
-
Level ID: 2
[ Start Tile, End Tile ]
- Resolution: 39135.75848200009
- Scale: 1.47914381897889E8
-
Level ID: 3
[ Start Tile, End Tile ]
- Resolution: 19567.87924099992
- Scale: 7.3957190948944E7
-
Level ID: 4
[ Start Tile, End Tile ]
- Resolution: 9783.93962049996
- Scale: 3.6978595474472E7
-
Level ID: 5
[ Start Tile, End Tile ]
- Resolution: 4891.96981024998
- Scale: 1.8489297737236E7
- Format: PNG
- Compression Quality: 0.0
- Origin: X: -2.0037508342787E7
Y: 2.0037508342787E7
- Spatial Reference: 102100
(3857)
Initial Extent:
XMin: -7982922.81817043
YMin: 5276068.343781151
XMax: -7932585.738329602
YMax: 5289628.26673433
Spatial Reference: 102100
(3857)
Full Extent:
XMin: -7977974.290895619
YMin: 5261305.305025341
XMax: -7938214.380169855
YMax: 5284551.554957515
Spatial Reference: 102100
(3857)
Units: esriMeters
Supported Image Format Types: PNG32,PNG24,PNG,JPG,DIB,TIFF,EMF,PS,PDF,GIF,SVG,SVGZ,BMP
Document Info:
Title: NashuaNH_Basemap_Plan_4_5_17
Author:
Comments: Basemap for HTML viewer
This map removes Road Names so they can be put in Ops map
mxd is D:\Data\HTMLViewer\NashuaNH_Basemap_Plan_4_5_17.mxd
This map eliminates the drape feature, eliminates driveway, parking lines and Parks. Uses LandFeatures.Contours_2t and PoliticalBoundaries.CityLimits_Line and AbbuttingTowns.Area_Towns_Cut
Subject: Basemap for HTML viewer
Category:
Keywords: basemap,basemap plan,cached map,cache
AntialiasingMode: None
TextAntialiasingMode: Force
Supports Dynamic Layers: true
MaxRecordCount: 1000
MaxImageHeight: 4096
MaxImageWidth: 4096
Supported Query Formats: JSON, geoJSON
Supports Query Data Elements:
Min Scale: 144447.638572
Max Scale: 282.124294
Supports Datum Transformation: true
Child Resources:
Info
Dynamic Layer
Supported Operations:
Export Map
Identify
QueryDomains
QueryLegends
Find
Return Updates